BEGIN:VCALENDAR
VERSION:2.0
PRODID:-//CACEA | Canadian Association of Consulting Energy Advisors - ECPv6.15.18//NONSGML v1.0//EN
CALSCALE:GREGORIAN
METHOD:PUBLISH
X-WR-CALNAME:CACEA | Canadian Association of Consulting Energy Advisors
X-ORIGINAL-URL:https://cacea.ca
X-WR-CALDESC:Events for CACEA | Canadian Association of Consulting Energy Advisors
REFRESH-INTERVAL;VALUE=DURATION:PT1H
X-Robots-Tag:noindex
X-PUBLISHED-TTL:PT1H
BEGIN:VTIMEZONE
TZID:America/Toronto
BEGIN:DAYLIGHT
TZOFFSETFROM:-0500
TZOFFSETTO:-0400
TZNAME:EDT
DTSTART:20250309T070000
END:DAYLIGHT
BEGIN:STANDARD
TZOFFSETFROM:-0400
TZOFFSETTO:-0500
TZNAME:EST
DTSTART:20251102T060000
END:STANDARD
BEGIN:DAYLIGHT
TZOFFSETFROM:-0500
TZOFFSETTO:-0400
TZNAME:EDT
DTSTART:20260308T070000
END:DAYLIGHT
BEGIN:STANDARD
TZOFFSETFROM:-0400
TZOFFSETTO:-0500
TZNAME:EST
DTSTART:20261101T060000
END:STANDARD
BEGIN:DAYLIGHT
TZOFFSETFROM:-0500
TZOFFSETTO:-0400
TZNAME:EDT
DTSTART:20270314T070000
END:DAYLIGHT
BEGIN:STANDARD
TZOFFSETFROM:-0400
TZOFFSETTO:-0500
TZNAME:EST
DTSTART:20271107T060000
END:STANDARD
END:VTIMEZONE
BEGIN:VTIMEZONE
TZID:UTC
BEGIN:STANDARD
TZOFFSETFROM:+0000
TZOFFSETTO:+0000
TZNAME:UTC
DTSTART:20240101T000000
END:STANDARD
END:VTIMEZONE
BEGIN:VTIMEZONE
TZID:UTC
BEGIN:STANDARD
TZOFFSETFROM:+0000
TZOFFSETTO:+0000
TZNAME:UTC
DTSTART:20240101T000000
END:STANDARD
END:VTIMEZONE
BEGIN:VEVENT
DTSTART;TZID=America/Toronto:20260223T120000
DTEND;TZID=America/Toronto:20260223T150000
DTSTAMP:20260425T215153
CREATED:20260119T203951Z
LAST-MODIFIED:20260119T204121Z
UID:10640-1771848000-1771858800@cacea.ca
SUMMARY:CACEA Annual General Meeting and Town Hall
DESCRIPTION:his is a key meeting for all CACEA members and supporters. During the Annual General Meeting (AGM)\, members (Full and Junior categories) will be asked to approve the 2025 AGM minutes\, the 2025 year-end financial statements\, and elect the CACEA Board of Directors. \nAll documents\, along with the agenda\, will be shared with members soon. \nFollowing the formal portion of the event\, CACEA will host a presentation led by a guest speaker\, followed by an interactive and open Town Hall discussion. \nCannot Attend the AGM But Want To Be Part of the Voting?\nCACEA voting members who can’t attend the AGM can complete a Proxy Form which appoints a member (Full or Junior category) to vote on their behalf. Please forward your completed form to info@cacea.ca by February 20\, 2025 by 5:00pm Eastern Time Zone. \nWhile this will delivered as a webinar to allow us to track attendance\, participants will have the opportunity to participate in the meeting and ask questions. \nRegistration:\nCACEA Members: Free (CEC = 3)\nNon-members: $25 plus tax \nAfter you register with CACEA\, please check your confirmation email and complete the Zoom registration requirements in order to receive your unique webinar link. Check your spam folder if you do not see it.
URL:https://cacea.ca/event/cacea-annual-general-meeting-and-town-hall/
LOCATION:Virtual via Zoom\, Canada
CATEGORIES:Webinar
END:VEVENT
BEGIN:VEVENT
DTSTART;TZID=America/Toronto:20260119T113000
DTEND;TZID=America/Toronto:20260120T173000
DTSTAMP:20260425T215153
CREATED:20251105T023522Z
LAST-MODIFIED:20260119T205123Z
UID:8871-1768822200-1768930200@cacea.ca
SUMMARY:Retrofit Refresh: Best Practices for Existing Home Audits
DESCRIPTION:This training program is designed to provide a deep understanding of the existing home audit process – providing practical\, “boots on the ground” guidance and lessons learned for each building and administrative component; highlight potential modelling challenges; and offer information that supports the work of existing home EAs – contributing to confidence in the delivery of consistent EA services. \n 
URL:https://cacea.ca/event/8871/
LOCATION:Virtual via Zoom\, Canada
CATEGORIES:Training
END:VEVENT
BEGIN:VEVENT
DTSTART;TZID=America/Toronto:20260115T120000
DTEND;TZID=America/Toronto:20260115T180000
DTSTAMP:20260425T215153
CREATED:20251101T005014Z
LAST-MODIFIED:20251215T235025Z
UID:8534-1768478400-1768500000@cacea.ca
SUMMARY:Residential Duct Air Flow Measurement: Assessing the impact of air flow on ASHP sizing
DESCRIPTION:Duct capacity is often a limiting factor in sizing retrofit heat pumps\, and contractors often size heat pumps based on the existing air conditioner\, resulting in under-sized equipment. A simple 15-minute test can provide definitive air flow capacity of a duct system\, contributing to a proper sized heat pump and avoiding poor system performance—such as noise problems due to restrictive ductwork. Energy Advisors (EA) can easily add this procedure to the scope of an Energy Evaluation. \nThis training will instruct EAs on how to evaluate the airflow capacity of duct systems in homes where the distribution system is not being changed and the primary retrofit measure is the replacement of heating and cooling equipment. In conjunction with other considerations—such as the CSA F280-12 Heat Loss/Heat Gain value—this is a preliminary assessment to provide the homeowner and their HVAC Contractor with data that will help the contractor select the largest ASHP based on existing ductwork. Please note: This course does not enable EAs and other HOT2000 modelers to select specific heat pumps or make direct sizing recommendations. The Contractor is ultimately responsible for equipment selection. \nInstructor and CACEA member Mark Rosen MEA\, Director\, Building Science\, Building Knowledge Canada and a well-known professional architect\, trainer\, and consultant who is passionate about buildings that perform exceptionally well.
URL:https://cacea.ca/event/residential-duct-air-flow-measurement-assessing-the-impact-of-air-flow-on-ashp-sizing/
LOCATION:Virtual via Zoom\, Canada
CATEGORIES:Training,Webinar
END:VEVENT
BEGIN:VEVENT
DTSTART;TZID=UTC:20251204T120000
DTEND;TZID=UTC:20251204T133000
DTSTAMP:20260425T215153
CREATED:20251027T175557Z
LAST-MODIFIED:20251103T200127Z
UID:1912-1764849600-1764855000@cacea.ca
SUMMARY:Unlocking Efficiency: Drain Water Heat Recovery for Multi-Unit Residential Buildings
DESCRIPTION:Marc Fontaine from EcoInnovation Technologies will provide a comprehensive overview of Drain Water Heat Recovery (DWHR) systems. Learn more about: \n\nthe construction of DWHR\, working principles\, and history of adoption\ndifferent installation configurations\, performance and efficiency\, and \nhow DWHR integrates with various water heater and building types\, including multi-unit residential buildings. \n\nThe session also will provide guidance on selecting the right unit\, practical installation examples\, and the use of energy recovery calculation tools.\n \nThis event is open to CACEA members only at no charge. (CEC = 1.5) \nPlease note that this online event will take place in the Eastern Time Zone. \nAfter you register with CACEA\, please check your confirmation email and complete the second step of the registration in Zoom in order to receive your unique webinar link. Check your spam folder if you do not see it. \nWant to take advantage of the free webinar?  JOIN CACEA NOW!
URL:https://cacea.ca/event/unlocking-efficiency-drain-water-heat-recovery-for-multi-unit-residential-buildings/
LOCATION:Virtual via Zoom\, Canada
CATEGORIES:Training
END:VEVENT
BEGIN:VEVENT
DTSTART;TZID=UTC:20251203T173000
DTEND;TZID=UTC:20251203T193000
DTSTAMP:20260425T215153
CREATED:20251027T175312Z
LAST-MODIFIED:20251114T001352Z
UID:1909-1764783000-1764790200@cacea.ca
SUMMARY:CACEA Meet and Greet: Winnipeg\, MB
DESCRIPTION:Join CACEA Executive Director Cindy Gareau and other members for a networking opportunity on December 3\, 2025\, 5:30pm – 7:30pm CT in Winnipeg\, MB (exact location to be confirmed closer to the date). \nThis is an ideal opportunity for members and industry partners to connect\, share ideas\, and strengthen relationships—while also enjoying a drink or dinner (at your own expense). \nIt’s also a perfect chance to invite someone who isn’t yet a member to experience what CACEA is all about. Bring along a friend or colleague who may be interested in learning more about the value of membership and the benefits of being part of our community. \nThe first drink for CACEA members is on us – the rest is on you!\n \nWant to take advantage of the member rate and other CACEA member benefits? Join CACEA now.
URL:https://cacea.ca/event/cacea-meet-and-greet-winnipeg-mb/
CATEGORIES:Meet and Greet
END:VEVENT
BEGIN:VEVENT
DTSTART;TZID=UTC:20251111T173000
DTEND;TZID=UTC:20251111T193000
DTSTAMP:20260425T215153
CREATED:20251025T001243Z
LAST-MODIFIED:20251027T204621Z
UID:1904-1762882200-1762889400@cacea.ca
SUMMARY:CACEA Meet and Greet: Regina\, SK
DESCRIPTION:Join CACEA Executive Director Cindy Gareau and other members for a networking opportunity on Tuesday\, November 11\, 2025\, 5:30pm – 7:30pm CT in Regina\, SK (exact location to be confirmed closer to the date). \nThis is an ideal opportunity for members and industry partners to connect\, share ideas\, and strengthen relationships—while also enjoying a drink or dinner (at your own expense). \nIt’s also a perfect chance to invite someone who isn’t yet a member to experience what CACEA is all about. Bring along a friend or colleague who may be interested in learning more about the value of membership and the benefits of being part of our community. \nThe first drink for CACEA members is on us – the rest is on you! \nWant to take advantage of the member rate and other CACEA member benefits? Join CACEA now.
URL:https://cacea.ca/event/cacea-meet-and-greet-regina-sk/
CATEGORIES:Meet and Greet
END:VEVENT
BEGIN:VEVENT
DTSTART;TZID=UTC:20251030T120000
DTEND;TZID=UTC:20251030T133000
DTSTAMP:20260425T215153
CREATED:20251014T185541Z
LAST-MODIFIED:20251027T204625Z
UID:761-1761825600-1761831000@cacea.ca
SUMMARY:Update on NRCan's National Approach to Home Labelling
DESCRIPTION:Join Victoria Charmet\, Manager\, Home Energy and Adaptation Labelling Task Force\, Office of Energy Efficiency\, Natural Resources Canada for an update on NRCan’s National Approach to Home Labelling.  \nDetails of the presentation to follow. \nThis event is open to CACEA members only at no charge. (CEC = 1.5) \nPlease note that this online event will take place in the Eastern Time Zone. \nAfter you register with CACEA\, please check your confirmation email and complete the second step of the registration in Zoom in order to receive your unique webinar link. Check your spam folder if you do not see it. \nWant to take advantage of the free* webinar?  JOIN CACEA NOW! \n*CACEA Members: you must be a member in good standing to qualify for this fee
URL:https://cacea.ca/event/update-on-nrcans-national-approach-to-home-labelling/
LOCATION:Virtual via Zoom\, Canada
CATEGORIES:Webinar
END:VEVENT
END:VCALENDAR