BEGIN:VCALENDAR
VERSION:2.0
PRODID:-//CACEA | Canadian Association of Consulting Energy Advisors - ECPv6.15.18//NONSGML v1.0//EN
CALSCALE:GREGORIAN
METHOD:PUBLISH
X-WR-CALNAME:CACEA | Canadian Association of Consulting Energy Advisors
X-ORIGINAL-URL:https://cacea.ca
X-WR-CALDESC:Events for CACEA | Canadian Association of Consulting Energy Advisors
REFRESH-INTERVAL;VALUE=DURATION:PT1H
X-Robots-Tag:noindex
X-PUBLISHED-TTL:PT1H
BEGIN:VTIMEZONE
TZID:America/Toronto
BEGIN:DAYLIGHT
TZOFFSETFROM:-0500
TZOFFSETTO:-0400
TZNAME:EDT
DTSTART:20250309T070000
END:DAYLIGHT
BEGIN:STANDARD
TZOFFSETFROM:-0400
TZOFFSETTO:-0500
TZNAME:EST
DTSTART:20251102T060000
END:STANDARD
BEGIN:DAYLIGHT
TZOFFSETFROM:-0500
TZOFFSETTO:-0400
TZNAME:EDT
DTSTART:20260308T070000
END:DAYLIGHT
BEGIN:STANDARD
TZOFFSETFROM:-0400
TZOFFSETTO:-0500
TZNAME:EST
DTSTART:20261101T060000
END:STANDARD
BEGIN:DAYLIGHT
TZOFFSETFROM:-0500
TZOFFSETTO:-0400
TZNAME:EDT
DTSTART:20270314T070000
END:DAYLIGHT
BEGIN:STANDARD
TZOFFSETFROM:-0400
TZOFFSETTO:-0500
TZNAME:EST
DTSTART:20271107T060000
END:STANDARD
END:VTIMEZONE
BEGIN:VTIMEZONE
TZID:America/Halifax
BEGIN:DAYLIGHT
TZOFFSETFROM:-0400
TZOFFSETTO:-0300
TZNAME:ADT
DTSTART:20250309T060000
END:DAYLIGHT
BEGIN:STANDARD
TZOFFSETFROM:-0300
TZOFFSETTO:-0400
TZNAME:AST
DTSTART:20251102T050000
END:STANDARD
BEGIN:DAYLIGHT
TZOFFSETFROM:-0400
TZOFFSETTO:-0300
TZNAME:ADT
DTSTART:20260308T060000
END:DAYLIGHT
BEGIN:STANDARD
TZOFFSETFROM:-0300
TZOFFSETTO:-0400
TZNAME:AST
DTSTART:20261101T050000
END:STANDARD
BEGIN:DAYLIGHT
TZOFFSETFROM:-0400
TZOFFSETTO:-0300
TZNAME:ADT
DTSTART:20270314T060000
END:DAYLIGHT
BEGIN:STANDARD
TZOFFSETFROM:-0300
TZOFFSETTO:-0400
TZNAME:AST
DTSTART:20271107T050000
END:STANDARD
END:VTIMEZONE
BEGIN:VEVENT
DTSTART;TZID=America/Toronto:20260609T120000
DTEND;TZID=America/Toronto:20260609T133000
DTSTAMP:20260425T190910
CREATED:20260408T125431Z
LAST-MODIFIED:20260408T131805Z
UID:11620-1781006400-1781011800@cacea.ca
SUMMARY:CACEA NBC 2025: An Overview of Key Proposed Changes (Webinar #6)
DESCRIPTION:This is the sixth webinar on NRCan’s proposed code changes. \nAs an EA it is important to be aware of upcoming code changes\, how they will impact your work\, and how you can get involved in making them better. \nAlex Bols\, Senior Technical Advisor\, Canadian Home Builders’ Association (CHBA)\, and Mark Rosen MEA\, Director of Building Science\, Building Knowledge Canada – both of whom are actively involved with the building code standing committees\, will provide an update on what’s proposed to be included in the NBC 2025.  \nMore details to come.  \nThis event is open to CACEA members only at no charge. \nCEC = 1.5
URL:https://cacea.ca/event/cacea-nbc-2025-an-overview-of-key-proposed-changes-webinar-6/
LOCATION:Virtual via Zoom\, Canada
CATEGORIES:Webinar
END:VEVENT
BEGIN:VEVENT
DTSTART;TZID=America/Halifax:20260622T180000
DTEND;TZID=America/Halifax:20260622T190000
DTSTAMP:20260425T190910
CREATED:20260421T165636Z
LAST-MODIFIED:20260421T165746Z
UID:11671-1782151200-1782154800@cacea.ca
SUMMARY:CACEA Meet and Greet: Halifax\, NS
DESCRIPTION:Join CACEA members for a networking opportunity on June 22\, 6:00pm – 7:00pm AT in Halifax\, NS (exact location to be confirmed soon)\, in conjunction with the 6th Annual Retrofit Canada Conference \nWhether you are registered for the event or happen to be in the area\, members can connect over a drink and/or dinner (on your dime). \nThis is a great chance to invite someone who isn’t yet a member to join us at the event. It’s a wonderful opportunity to show them what CACEA is all about and the benefits of being part of our community. Feel free to bring along a friend or colleague who might be interested in learning more! \nThe first drink for CACEA members is on us – the rest is on you!
URL:https://cacea.ca/event/cacea-meet-and-greet-halifax-ns/
CATEGORIES:Meet and Greet
END:VEVENT
END:VCALENDAR