BEGIN:VCALENDAR
VERSION:2.0
PRODID:-//CACEA | Canadian Association of Consulting Energy Advisors - ECPv6.15.18//NONSGML v1.0//EN
CALSCALE:GREGORIAN
METHOD:PUBLISH
X-ORIGINAL-URL:https://cacea.ca
X-WR-CALDESC:Events for CACEA | Canadian Association of Consulting Energy Advisors
REFRESH-INTERVAL;VALUE=DURATION:PT1H
X-Robots-Tag:noindex
X-PUBLISHED-TTL:PT1H
BEGIN:VTIMEZONE
TZID:America/Toronto
BEGIN:DAYLIGHT
TZOFFSETFROM:-0500
TZOFFSETTO:-0400
TZNAME:EDT
DTSTART:20250309T070000
END:DAYLIGHT
BEGIN:STANDARD
TZOFFSETFROM:-0400
TZOFFSETTO:-0500
TZNAME:EST
DTSTART:20251102T060000
END:STANDARD
BEGIN:DAYLIGHT
TZOFFSETFROM:-0500
TZOFFSETTO:-0400
TZNAME:EDT
DTSTART:20260308T070000
END:DAYLIGHT
BEGIN:STANDARD
TZOFFSETFROM:-0400
TZOFFSETTO:-0500
TZNAME:EST
DTSTART:20261101T060000
END:STANDARD
BEGIN:DAYLIGHT
TZOFFSETFROM:-0500
TZOFFSETTO:-0400
TZNAME:EDT
DTSTART:20270314T070000
END:DAYLIGHT
BEGIN:STANDARD
TZOFFSETFROM:-0400
TZOFFSETTO:-0500
TZNAME:EST
DTSTART:20271107T060000
END:STANDARD
END:VTIMEZONE
BEGIN:VEVENT
DTSTART;TZID=America/Toronto:20260605T120000
DTEND;TZID=America/Toronto:20260605T130000
DTSTAMP:20260425T163848
CREATED:20260421T171139Z
LAST-MODIFIED:20260421T171244Z
UID:11673-1780660800-1780664400@cacea.ca
SUMMARY:EMBODIED CARBON & INSULATION - Lowering Emissions Now and in the Future
DESCRIPTION:The Canadian construction industry is being tasked with building and retrofitting millions of homes to meet higher expectations for energy performance. And more immediate is the need for low and zero embodied carbon options for the materials we use for our built environment. Codes are changing. Climate is changing. Builders\, renovators\, and energy advisors have a challenging time in front of us as we head toward a zero energy\, zero carbon future. \nHow do we get to a better performing\, more resilient and low carbon housing infrastructure? What can we change about the way we do things? And what does this mean for EA’s of the future? \nJoin NAIMA Canada’s Gary Sharp and Andy Cockburn as they present ideas on how we might tackle embodied carbon AND operational carbon together by pushing for Tier 5 performance as soon as possible. \nThis event is open to CACEA members only at no charge. CEC = 1
URL:https://cacea.ca/event/embodied-carbon-insulation-lowering-emissions-now-and-in-the-future/
LOCATION:Virtual via Zoom\, Canada
CATEGORIES:Webinar
END:VEVENT
END:VCALENDAR