BEGIN:VCALENDAR
VERSION:2.0
PRODID:-//CACEA | Canadian Association of Consulting Energy Advisors - ECPv6.15.18//NONSGML v1.0//EN
CALSCALE:GREGORIAN
METHOD:PUBLISH
X-ORIGINAL-URL:https://cacea.ca
X-WR-CALDESC:Events for CACEA | Canadian Association of Consulting Energy Advisors
REFRESH-INTERVAL;VALUE=DURATION:PT1H
X-Robots-Tag:noindex
X-PUBLISHED-TTL:PT1H
BEGIN:VTIMEZONE
TZID:America/Toronto
BEGIN:DAYLIGHT
TZOFFSETFROM:-0500
TZOFFSETTO:-0400
TZNAME:EDT
DTSTART:20250309T070000
END:DAYLIGHT
BEGIN:STANDARD
TZOFFSETFROM:-0400
TZOFFSETTO:-0500
TZNAME:EST
DTSTART:20251102T060000
END:STANDARD
BEGIN:DAYLIGHT
TZOFFSETFROM:-0500
TZOFFSETTO:-0400
TZNAME:EDT
DTSTART:20260308T070000
END:DAYLIGHT
BEGIN:STANDARD
TZOFFSETFROM:-0400
TZOFFSETTO:-0500
TZNAME:EST
DTSTART:20261101T060000
END:STANDARD
BEGIN:DAYLIGHT
TZOFFSETFROM:-0500
TZOFFSETTO:-0400
TZNAME:EDT
DTSTART:20270314T070000
END:DAYLIGHT
BEGIN:STANDARD
TZOFFSETFROM:-0400
TZOFFSETTO:-0500
TZNAME:EST
DTSTART:20271107T060000
END:STANDARD
END:VTIMEZONE
BEGIN:VEVENT
DTSTART;TZID=America/Toronto:20260505T180000
DTEND;TZID=America/Toronto:20260505T190000
DTSTAMP:20260425T151614
CREATED:20260421T163325Z
LAST-MODIFIED:20260421T163630Z
UID:11665-1778004000-1778007600@cacea.ca
SUMMARY:CACEA Meet and Greet: Quebec City\, QC
DESCRIPTION:Join CACEA members for a networking opportunity on May 5\, 6:00pm – 7:00pm ET in Quebec City\, QC (exact location to be confirmed soon)\, in conjunction with the 2026 Home Building Week in Canada. \nWhether you are registered for the event or happen to be in the area\, members can connect over a drink and/or dinner (on your dime). \nThis is a great chance to invite someone who isn’t yet a member to join us at the event. It’s a wonderful opportunity to show them what CACEA is all about and the benefits of being part of our community. Feel free to bring along a friend or colleague who might be interested in learning more! \nThe first drink for CACEA members is on us – the rest is on you!
URL:https://cacea.ca/event/cacea-meet-and-greet-quebec-city-qc/
CATEGORIES:Meet and Greet
END:VEVENT
END:VCALENDAR